BEGIN:VCALENDAR
VERSION:2.0
PRODID:-//hacksw/handcal//NONSGML v1.0//EN
BEGIN:VEVENT
SUMMARY:Trophee 3D U11
UID:517f10ed-9e6c-49f5-80dd-885cf8cc7cdf
DTSTART:20260524T073000Z
DTEND:20260524T153000Z
LOCATION:Localisation   
CATEGORIES:Sportif
STATUS:
URL;VALUE=URI:https://www.drl-13.fr/evenements/2026/05/24/trophee-3d-u11-2433828
END:VEVENT
END:VCALENDAR
