BEGIN:VCALENDAR
VERSION:2.0
PRODID:-//hacksw/handcal//NONSGML v1.0//EN
BEGIN:VEVENT
SUMMARY:Challenge Avenir U5
UID:6c59cc4b-7285-4c2d-a5da-b6188e29273a
DTSTART:20260425T083000Z
DTEND:20260425T093000Z
LOCATION:Localisation Stade des peupliers 69100 
CATEGORIES:Sportif
STATUS:
URL;VALUE=URI:https://www.drl-13.fr/evenements/2026/04/25/challenge-avenir-u5-2439248
END:VEVENT
END:VCALENDAR
